BEGIN:VCALENDAR
VERSION:2.0
PRODID:-//CAPSA - ECPv6.15.20//NONSGML v1.0//EN
CALSCALE:GREGORIAN
METHOD:PUBLISH
X-ORIGINAL-URL:https://www.capsa.org
X-WR-CALDESC:Events for CAPSA
REFRESH-INTERVAL;VALUE=DURATION:PT1H
X-Robots-Tag:noindex
X-PUBLISHED-TTL:PT1H
BEGIN:VTIMEZONE
TZID:America/Denver
BEGIN:DAYLIGHT
TZOFFSETFROM:-0700
TZOFFSETTO:-0600
TZNAME:MDT
DTSTART:20240310T090000
END:DAYLIGHT
BEGIN:STANDARD
TZOFFSETFROM:-0600
TZOFFSETTO:-0700
TZNAME:MST
DTSTART:20241103T080000
END:STANDARD
BEGIN:DAYLIGHT
TZOFFSETFROM:-0700
TZOFFSETTO:-0600
TZNAME:MDT
DTSTART:20250309T090000
END:DAYLIGHT
BEGIN:STANDARD
TZOFFSETFROM:-0600
TZOFFSETTO:-0700
TZNAME:MST
DTSTART:20251102T080000
END:STANDARD
BEGIN:DAYLIGHT
TZOFFSETFROM:-0700
TZOFFSETTO:-0600
TZNAME:MDT
DTSTART:20260308T090000
END:DAYLIGHT
BEGIN:STANDARD
TZOFFSETFROM:-0600
TZOFFSETTO:-0700
TZNAME:MST
DTSTART:20261101T080000
END:STANDARD
END:VTIMEZONE
BEGIN:VEVENT
DTSTART;TZID=America/Denver:20250924T103000
DTEND;TZID=America/Denver:20250924T110000
DTSTAMP:20260422T172439
CREATED:20250910T182811Z
LAST-MODIFIED:20250910T182811Z
UID:48397-1758709800-1758711600@www.capsa.org
SUMMARY:Storytime: Healthy Emotions
DESCRIPTION:
URL:https://www.capsa.org/event/storytime-healthy-emotions-3/
LOCATION:Mendon Library\, 15 N Main St\, Mendon\, UT\, 84325\, United States
ORGANIZER;CN="CAPSA":MAILTO:info@capsa.org
END:VEVENT
BEGIN:VEVENT
DTSTART;TZID=America/Denver:20250924T170000
DTEND;TZID=America/Denver:20250924T180000
DTSTAMP:20260422T172439
CREATED:20250910T183047Z
LAST-MODIFIED:20250910T183047Z
UID:48398-1758733200-1758736800@www.capsa.org
SUMMARY:Green Canyon High School Homecoming Parade
DESCRIPTION:
URL:https://www.capsa.org/event/green-canyon-high-school-homecoming-parade/
LOCATION:Green Canyon High School\, 2960 Wolf Pack Wy North\, North Logan\, UT\, 84341\, United States
END:VEVENT
END:VCALENDAR