BEGIN:VCALENDAR
VERSION:2.0
PRODID:-//CAPSA - ECPv6.15.20//NONSGML v1.0//EN
CALSCALE:GREGORIAN
METHOD:PUBLISH
X-WR-CALNAME:CAPSA
X-ORIGINAL-URL:https://www.capsa.org
X-WR-CALDESC:Events for CAPSA
REFRESH-INTERVAL;VALUE=DURATION:PT1H
X-Robots-Tag:noindex
X-PUBLISHED-TTL:PT1H
BEGIN:VTIMEZONE
TZID:America/Denver
BEGIN:DAYLIGHT
TZOFFSETFROM:-0700
TZOFFSETTO:-0600
TZNAME:MDT
DTSTART:20240310T090000
END:DAYLIGHT
BEGIN:STANDARD
TZOFFSETFROM:-0600
TZOFFSETTO:-0700
TZNAME:MST
DTSTART:20241103T080000
END:STANDARD
BEGIN:DAYLIGHT
TZOFFSETFROM:-0700
TZOFFSETTO:-0600
TZNAME:MDT
DTSTART:20250309T090000
END:DAYLIGHT
BEGIN:STANDARD
TZOFFSETFROM:-0600
TZOFFSETTO:-0700
TZNAME:MST
DTSTART:20251102T080000
END:STANDARD
BEGIN:DAYLIGHT
TZOFFSETFROM:-0700
TZOFFSETTO:-0600
TZNAME:MDT
DTSTART:20260308T090000
END:DAYLIGHT
BEGIN:STANDARD
TZOFFSETFROM:-0600
TZOFFSETTO:-0700
TZNAME:MST
DTSTART:20261101T080000
END:STANDARD
END:VTIMEZONE
BEGIN:VEVENT
DTSTART;TZID=America/Denver:20251129T100000
DTEND;TZID=America/Denver:20251129T190000
DTSTAMP:20260420T204353
CREATED:20251119T193425Z
LAST-MODIFIED:20251119T193425Z
UID:48609-1764410400-1764442800@www.capsa.org
SUMMARY:Festival of Lights Parade
DESCRIPTION:Festival of Lights – Preston\, Idaho
URL:https://www.capsa.org/event/festival-of-lights-parade/
LOCATION:Preston\, Idaho\, 70 W Oneida St.\, Preston\, UT\, 83263\, United States
END:VEVENT
BEGIN:VEVENT
DTSTART;TZID=America/Denver:20251124T163000
DTEND;TZID=America/Denver:20251124T173000
DTSTAMP:20260420T204353
CREATED:20250910T202016Z
LAST-MODIFIED:20250910T202016Z
UID:48430-1764001800-1764005400@www.capsa.org
SUMMARY:Crafting with CAPSA
DESCRIPTION:
URL:https://www.capsa.org/event/crafting-with-capsa-12/
LOCATION:Mendon Library\, 15 N Main St\, Mendon\, UT\, 84325\, United States
ORGANIZER;CN="CAPSA":MAILTO:info@capsa.org
END:VEVENT
BEGIN:VEVENT
DTSTART;TZID=America/Denver:20251121T104500
DTEND;TZID=America/Denver:20251121T120000
DTSTAMP:20260420T204353
CREATED:20251119T200315Z
LAST-MODIFIED:20251119T200315Z
UID:48612-1763721900-1763726400@www.capsa.org
SUMMARY:Presentation for Youth: Communication
DESCRIPTION:
URL:https://www.capsa.org/event/presentation-for-youth-communication/
LOCATION:North Logan Library\, 475 E 2500 N\, North Logan\, UT\, 84341\, United States
ORGANIZER;CN="CAPSA":MAILTO:info@capsa.org
END:VEVENT
BEGIN:VEVENT
DTSTART;TZID=America/Denver:20251120T103000
DTEND;TZID=America/Denver:20251120T110000
DTSTAMP:20260420T204353
CREATED:20250910T201729Z
LAST-MODIFIED:20250910T201729Z
UID:48429-1763634600-1763636400@www.capsa.org
SUMMARY:Presentation for Youth: Support Networks
DESCRIPTION:
URL:https://www.capsa.org/event/presentation-for-youth-support-networks/
LOCATION:Newton Town Library\, 51 S Center St\, Newton\, UT\, 84327\, United States
ORGANIZER;CN="CAPSA":MAILTO:info@capsa.org
END:VEVENT
BEGIN:VEVENT
DTSTART;TZID=America/Denver:20251119T103000
DTEND;TZID=America/Denver:20251119T110000
DTSTAMP:20260420T204353
CREATED:20250910T201614Z
LAST-MODIFIED:20250910T201614Z
UID:48428-1763548200-1763550000@www.capsa.org
SUMMARY:Storytime: TBD
DESCRIPTION:
URL:https://www.capsa.org/event/storytime-tbd-5/
LOCATION:Mendon Library\, 15 N Main St\, Mendon\, UT\, 84325\, United States
ORGANIZER;CN="CAPSA":MAILTO:info@capsa.org
END:VEVENT
BEGIN:VEVENT
DTSTART;TZID=America/Denver:20251118T103000
DTEND;TZID=America/Denver:20251118T110000
DTSTAMP:20260420T204353
CREATED:20250910T201515Z
LAST-MODIFIED:20250910T201515Z
UID:48427-1763461800-1763463600@www.capsa.org
SUMMARY:Storytime: Upstanding
DESCRIPTION:
URL:https://www.capsa.org/event/storytime-upstanding-2/
LOCATION:Smithfield Library\, 25 Main St\, Smithfield\, UT\, 84335\, United States
ORGANIZER;CN="CAPSA":MAILTO:info@capsa.org
END:VEVENT
BEGIN:VEVENT
DTSTART;TZID=America/Denver:20251117T163000
DTEND;TZID=America/Denver:20251117T173000
DTSTAMP:20260420T204353
CREATED:20250910T201351Z
LAST-MODIFIED:20250910T201351Z
UID:48426-1763397000-1763400600@www.capsa.org
SUMMARY:Crafting with CAPSA
DESCRIPTION:
URL:https://www.capsa.org/event/crafting-with-capsa-11/
LOCATION:Newton Town Library\, 51 S Center St\, Newton\, UT\, 84327\, United States
ORGANIZER;CN="CAPSA":MAILTO:info@capsa.org
END:VEVENT
BEGIN:VEVENT
DTSTART;TZID=America/Denver:20251112T153000
DTEND;TZID=America/Denver:20251112T163000
DTSTAMP:20260420T204353
CREATED:20250910T201247Z
LAST-MODIFIED:20250910T201247Z
UID:48425-1762961400-1762965000@www.capsa.org
SUMMARY:BrainWise for Youth: Support
DESCRIPTION:
URL:https://www.capsa.org/event/brainwise-for-youth-support/
LOCATION:Rich County Library\, 21 N Main St\, Randolph\, UT\, 84064\, United States
ORGANIZER;CN="CAPSA":MAILTO:info@capsa.org
END:VEVENT
BEGIN:VEVENT
DTSTART;TZID=America/Denver:20251107T180000
DTEND;TZID=America/Denver:20251107T190000
DTSTAMP:20260420T204353
CREATED:20250910T201119Z
LAST-MODIFIED:20250910T201119Z
UID:48424-1762538400-1762542000@www.capsa.org
SUMMARY:Presentation: Healthy Emotions
DESCRIPTION:
URL:https://www.capsa.org/event/presentation-healthy-emotions-2/
LOCATION:Cache Pride Center\, 596 East 900 North\, Logan\, UT\, 84321\, United States
ORGANIZER;CN="CAPSA":MAILTO:info@capsa.org
END:VEVENT
BEGIN:VEVENT
DTSTART;TZID=America/Denver:20251106T180000
DTEND;TZID=America/Denver:20251106T190000
DTSTAMP:20260420T204353
CREATED:20250910T201008Z
LAST-MODIFIED:20250910T201008Z
UID:48423-1762452000-1762455600@www.capsa.org
SUMMARY:Presentation: Healthy Emotions
DESCRIPTION:
URL:https://www.capsa.org/event/presentation-healthy-emotions/
LOCATION:Cache Pride Center\, 596 East 900 North\, Logan\, UT\, 84321\, United States
ORGANIZER;CN="CAPSA":MAILTO:info@capsa.org
END:VEVENT
BEGIN:VEVENT
DTSTART;TZID=America/Denver:20251106T170000
DTEND;TZID=America/Denver:20251106T180000
DTSTAMP:20260420T204353
CREATED:20251030T171940Z
LAST-MODIFIED:20251030T171940Z
UID:48574-1762448400-1762452000@www.capsa.org
SUMMARY:Preston CAPSA Office Ribbon Cutting
DESCRIPTION:
URL:https://www.capsa.org/event/preston-capsa-office-ribbon-cutting/
LOCATION:Franklin County Medical Center\, 44 N 1st E\, Preston\, ID\, 83263\, United States
ORGANIZER;CN="CAPSA":MAILTO:info@capsa.org
END:VEVENT
BEGIN:VEVENT
DTSTART;TZID=America/Denver:20251105T110000
DTEND;TZID=America/Denver:20251105T120000
DTSTAMP:20260420T204353
CREATED:20250910T200634Z
LAST-MODIFIED:20250910T200634Z
UID:48422-1762340400-1762344000@www.capsa.org
SUMMARY:Presentation for Youth: Empathy & Point of View
DESCRIPTION:
URL:https://www.capsa.org/event/presentation-for-youth-empathy-point-of-view/
LOCATION:Hyrum Library\, 50 W Main St\, Hyrum\, UT\, 84319\, United States
ORGANIZER;CN="CAPSA":MAILTO:info@capsa.org
END:VEVENT
BEGIN:VEVENT
DTSTART;TZID=America/Denver:20251029T080000
DTEND;TZID=America/Denver:20251029T170000
DTSTAMP:20260420T204353
CREATED:20250609T215258Z
LAST-MODIFIED:20250609T215258Z
UID:48270-1761724800-1761757200@www.capsa.org
SUMMARY:Preston Farmers Market
DESCRIPTION:
URL:https://www.capsa.org/event/preston-farmers-market-7/
LOCATION:Preston City Park\, 98 W 200 N\, Preston\, ID\, United States
END:VEVENT
BEGIN:VEVENT
DTSTART;TZID=America/Denver:20251027T170000
DTEND;TZID=America/Denver:20251027T190000
DTSTAMP:20260420T204353
CREATED:20251021T173932Z
LAST-MODIFIED:20251021T173932Z
UID:48552-1761584400-1761591600@www.capsa.org
SUMMARY:CIFC Trunk or Treat
DESCRIPTION:
URL:https://www.capsa.org/event/cifc-trunk-or-treat/
LOCATION:Hansen Sports Complex\, 220 E 2850 N\, Logan\, UT\, 84321\, United States
END:VEVENT
BEGIN:VEVENT
DTSTART;TZID=America/Denver:20251027T163000
DTEND;TZID=America/Denver:20251027T173000
DTSTAMP:20260420T204353
CREATED:20250910T191809Z
LAST-MODIFIED:20250910T191809Z
UID:48418-1761582600-1761586200@www.capsa.org
SUMMARY:Crafting with CAPSA
DESCRIPTION:
URL:https://www.capsa.org/event/crafting-with-capsa-10/
LOCATION:Mendon Library\, 15 N Main St\, Mendon\, UT\, 84325\, United States
ORGANIZER;CN="CAPSA":MAILTO:info@capsa.org
END:VEVENT
BEGIN:VEVENT
DTSTART;TZID=America/Denver:20251025T140000
DTEND;TZID=America/Denver:20251025T180000
DTSTAMP:20260420T204353
CREATED:20251020T204918Z
LAST-MODIFIED:20251020T204918Z
UID:48544-1761400800-1761415200@www.capsa.org
SUMMARY:Don't Get Lost in the Web
DESCRIPTION:Don’t Get Lost in the Web (1) \nJoin us at the Cache Valley Straw Maze on October 25 from 2–6 PM for a Digital Safety Scavenger Hunt. It will be a fun and interactive event for teens and adults to learn\, connect\, and explore! \n– Teams with both a teen and an adult get extra prize entries\n– Enjoy pumpkin painting\n– Three prize drawings throughout the event \nPresented by the Northern Utah Violence Prevention Education Coalition \n💲Show this post (or the flyer) for $2 off entry
URL:https://www.capsa.org/event/dont-get-lost-in-the-web/
LOCATION:Cache Valley Straw Maze\, 590 N 200 W\, Richmond\, UT\, 84333\, United States
END:VEVENT
BEGIN:VEVENT
DTSTART;TZID=America/Denver:20251024T180000
DTEND;TZID=America/Denver:20251024T210000
DTSTAMP:20260420T204353
CREATED:20250910T174446Z
LAST-MODIFIED:20250910T174446Z
UID:48378-1761328800-1761339600@www.capsa.org
SUMMARY:Wine Pairing 2025
DESCRIPTION:For more information or to purchase tickets\, please visit capsa.org/wine. \n 
URL:https://www.capsa.org/event/wine-pairing-2025/
LOCATION:Logan Golf & Country Club\, 710 N 1500 E\, Logan\, UT\, 84321\, United States
ORGANIZER;CN="CAPSA":MAILTO:info@capsa.org
END:VEVENT
BEGIN:VEVENT
DTSTART;TZID=America/Denver:20251022T103000
DTEND;TZID=America/Denver:20251022T110000
DTSTAMP:20260420T204353
CREATED:20250910T191703Z
LAST-MODIFIED:20250910T192727Z
UID:48417-1761129000-1761130800@www.capsa.org
SUMMARY:Storytime: TBD
DESCRIPTION:
URL:https://www.capsa.org/event/storytime/
LOCATION:Mendon Library\, 15 N Main St\, Mendon\, UT\, 84325\, United States
ORGANIZER;CN="CAPSA":MAILTO:info@capsa.org
END:VEVENT
BEGIN:VEVENT
DTSTART;TZID=America/Denver:20251021T103000
DTEND;TZID=America/Denver:20251021T110000
DTSTAMP:20260420T204353
CREATED:20250910T191355Z
LAST-MODIFIED:20250910T191440Z
UID:48416-1761042600-1761044400@www.capsa.org
SUMMARY:Storytime: Communication
DESCRIPTION:
URL:https://www.capsa.org/event/storytime-communication-2/
LOCATION:Smithfield Library\, 25 Main St\, Smithfield\, UT\, 84335\, United States
ORGANIZER;CN="CAPSA":MAILTO:info@capsa.org
END:VEVENT
BEGIN:VEVENT
DTSTART;TZID=America/Denver:20251020T163000
DTEND;TZID=America/Denver:20251020T173000
DTSTAMP:20260420T204353
CREATED:20250910T191253Z
LAST-MODIFIED:20250910T191253Z
UID:48415-1760977800-1760981400@www.capsa.org
SUMMARY:Crafting with CAPSA
DESCRIPTION:
URL:https://www.capsa.org/event/crafting-with-capsa-9/
LOCATION:Newton Town Library\, 51 S Center St\, Newton\, UT\, 84327\, United States
ORGANIZER;CN="CAPSA":MAILTO:info@capsa.org
END:VEVENT
BEGIN:VEVENT
DTSTART;TZID=America/Denver:20251016T150000
DTEND;TZID=America/Denver:20251016T163000
DTSTAMP:20260420T204353
CREATED:20250910T185903Z
LAST-MODIFIED:20250910T192536Z
UID:48410-1760626800-1760632200@www.capsa.org
SUMMARY:Presentation: Consent
DESCRIPTION:
URL:https://www.capsa.org/event/consent/
LOCATION:USU Disability Resource Center\, 101 Old Main Hill\, Logan\, UT\, 84322\, United States
ORGANIZER;CN="Utah State University":MAILTO:spencer.bitner@usu.edu
END:VEVENT
BEGIN:VEVENT
DTSTART;TZID=America/Denver:20251016T103000
DTEND;TZID=America/Denver:20251016T110000
DTSTAMP:20260420T204353
CREATED:20250910T185656Z
LAST-MODIFIED:20250910T192747Z
UID:48409-1760610600-1760612400@www.capsa.org
SUMMARY:Youth Presentation: Upstanding
DESCRIPTION:
URL:https://www.capsa.org/event/upstanding-2/
LOCATION:Newton Town Library\, 51 S Center St\, Newton\, UT\, 84327\, United States
ORGANIZER;CN="CAPSA":MAILTO:info@capsa.org
END:VEVENT
BEGIN:VEVENT
DTSTART;TZID=America/Denver:20251008T170000
DTEND;TZID=America/Denver:20251008T200000
DTSTAMP:20260420T204353
CREATED:20250609T215217Z
LAST-MODIFIED:20250609T215217Z
UID:48269-1759942800-1759953600@www.capsa.org
SUMMARY:Preston Farmers Market
DESCRIPTION:
URL:https://www.capsa.org/event/preston-farmers-market-6/
LOCATION:Preston City Park\, 98 W 200 N\, Preston\, ID\, United States
END:VEVENT
BEGIN:VEVENT
DTSTART;TZID=America/Denver:20251008T153000
DTEND;TZID=America/Denver:20251008T163000
DTSTAMP:20260420T204353
CREATED:20250910T185458Z
LAST-MODIFIED:20250910T192832Z
UID:48408-1759937400-1759941000@www.capsa.org
SUMMARY:BrainWise for Youth: Lizard v. Wizard
DESCRIPTION:
URL:https://www.capsa.org/event/brainwise-lizard-v-wizard/
LOCATION:Rich County Library\, 21 N Main St\, Randolph\, UT\, 84064\, United States
ORGANIZER;CN="CAPSA":MAILTO:info@capsa.org
END:VEVENT
BEGIN:VEVENT
DTSTART;TZID=America/Denver:20251007T080000
DTEND;TZID=America/Denver:20251007T170000
DTSTAMP:20260420T204353
CREATED:20250910T185247Z
LAST-MODIFIED:20250910T185247Z
UID:48406-1759824000-1759856400@www.capsa.org
SUMMARY:World Mental Health Day
DESCRIPTION:
URL:https://www.capsa.org/event/world-mental-health-day/
LOCATION:USU Taggart Student Center\, 650 N 800 E\, Logan\, UT\, 84322\, United States
ORGANIZER;CN="Utah State University":MAILTO:spencer.bitner@usu.edu
END:VEVENT
BEGIN:VEVENT
DTSTART;TZID=America/Denver:20251004T160000
DTEND;TZID=America/Denver:20251004T190000
DTSTAMP:20260420T204353
CREATED:20250910T192330Z
LAST-MODIFIED:20250910T192330Z
UID:48419-1759593600-1759604400@www.capsa.org
SUMMARY:Freckle Farm Harvest Festival
DESCRIPTION:
URL:https://www.capsa.org/event/freckle-farm-harvest-festival/
LOCATION:Freckle Farm\, 3915 US-91\, Hyde Park\, UT\, 84318\, United States
END:VEVENT
BEGIN:VEVENT
DTSTART;TZID=America/Denver:20251003T100000
DTEND;TZID=America/Denver:20251003T180000
DTSTAMP:20260420T204353
CREATED:20250910T204207Z
LAST-MODIFIED:20250910T204207Z
UID:48431-1759485600-1759514400@www.capsa.org
SUMMARY:Walmart Round-Up Fundraiser
DESCRIPTION:Shopping at Walmart on October 3rd? Consider rounding up your total at both Logan locations to donate to CAPSA!
URL:https://www.capsa.org/event/walmart-round-up-fundraiser/
LOCATION:Walmart
ORGANIZER;CN="CAPSA":MAILTO:info@capsa.org
END:VEVENT
BEGIN:VEVENT
DTSTART;TZID=America/Denver:20251002T180000
DTEND;TZID=America/Denver:20251002T190000
DTSTAMP:20260420T204353
CREATED:20250910T183607Z
LAST-MODIFIED:20250910T192844Z
UID:48402-1759428000-1759431600@www.capsa.org
SUMMARY:Presentation for Youth: Bullying & Upstanding
DESCRIPTION:
URL:https://www.capsa.org/event/bullying-upstanding/
LOCATION:Cache Pride Center\, 596 East 900 North\, Logan\, UT\, 84321\, United States
ORGANIZER;CN="CAPSA":MAILTO:info@capsa.org
END:VEVENT
BEGIN:VEVENT
DTSTART;TZID=America/Denver:20251001T180000
DTEND;TZID=America/Denver:20251001T213000
DTSTAMP:20260420T204353
CREATED:20250924T172922Z
LAST-MODIFIED:20250924T172922Z
UID:48448-1759341600-1759354200@www.capsa.org
SUMMARY:Light the Night
DESCRIPTION:Light the Night is a CAPSA event proudly sponsored by Cache Valley Bank.\n\nJoin CAPSA on Wednesday\, October 1st\, at the Cache County Historic Courthouse grounds as we kick off Domestic Violence Awareness Month with our second annual Light the Night celebration. This free\, family-friendly event brings our community together to show support for survivors and to raise awareness.\n\nAs the sun sets\, watch downtown Logan light up purple\, the official color of Domestic Violence Awareness Month\, in a powerful display of unity and hope. Guests can enjoy purple-themed refreshments and help decorate luminaries\, which we’ll light together to create a glowing path of support as the evening grows dark.\n\n– When: Wednesday\, October 1st\, 7:00 PM– Where: Cache County Historic Courthouse Grounds 199 N Main St\, Logan\, UT 84321– Who: Open to the entire community. All are welcome!\n\nCome stand with CAPSA and help us light the night purple for survivors.
URL:https://www.capsa.org/event/light-the-night/
LOCATION:Cache County Historic Court House\, 200 N and Main St.\, Logan\, UT\, 84321\, United States
ORGANIZER;CN="CAPSA":MAILTO:info@capsa.org
END:VEVENT
BEGIN:VEVENT
DTSTART;TZID=America/Denver:20251001T110000
DTEND;TZID=America/Denver:20251001T120000
DTSTAMP:20260420T204353
CREATED:20250910T184858Z
LAST-MODIFIED:20250910T192707Z
UID:48404-1759316400-1759320000@www.capsa.org
SUMMARY:Presentation for Youth: Goals & Action Plans
DESCRIPTION:
URL:https://www.capsa.org/event/goals-action-plans/
LOCATION:Hyrum Library\, 50 W Main St\, Hyrum\, UT\, 84319\, United States
ORGANIZER;CN="CAPSA":MAILTO:info@capsa.org
END:VEVENT
END:VCALENDAR