BEGIN:VCALENDAR
VERSION:2.0
PRODID:-//CAPSA - ECPv6.15.20//NONSGML v1.0//EN
CALSCALE:GREGORIAN
METHOD:PUBLISH
X-ORIGINAL-URL:https://www.capsa.org
X-WR-CALDESC:Events for CAPSA
REFRESH-INTERVAL;VALUE=DURATION:PT1H
X-Robots-Tag:noindex
X-PUBLISHED-TTL:PT1H
BEGIN:VTIMEZONE
TZID:America/Denver
BEGIN:DAYLIGHT
TZOFFSETFROM:-0700
TZOFFSETTO:-0600
TZNAME:MDT
DTSTART:20250309T090000
END:DAYLIGHT
BEGIN:STANDARD
TZOFFSETFROM:-0600
TZOFFSETTO:-0700
TZNAME:MST
DTSTART:20251102T080000
END:STANDARD
BEGIN:DAYLIGHT
TZOFFSETFROM:-0700
TZOFFSETTO:-0600
TZNAME:MDT
DTSTART:20260308T090000
END:DAYLIGHT
BEGIN:STANDARD
TZOFFSETFROM:-0600
TZOFFSETTO:-0700
TZNAME:MST
DTSTART:20261101T080000
END:STANDARD
BEGIN:DAYLIGHT
TZOFFSETFROM:-0700
TZOFFSETTO:-0600
TZNAME:MDT
DTSTART:20270314T090000
END:DAYLIGHT
BEGIN:STANDARD
TZOFFSETFROM:-0600
TZOFFSETTO:-0700
TZNAME:MST
DTSTART:20271107T080000
END:STANDARD
END:VTIMEZONE
BEGIN:VEVENT
DTSTART;TZID=America/Denver:20260414T190000
DTEND;TZID=America/Denver:20260414T194500
DTSTAMP:20260420T134242
CREATED:20260407T180517Z
LAST-MODIFIED:20260407T181725Z
UID:48759-1776193200-1776195900@www.capsa.org
SUMMARY:April SAFE Adult Online Training
DESCRIPTION:Join CAPSA for a free\, 45-minute virtual training designed to help parents\, faith leaders\, and community members feel more confident navigating tough conversations with youth. \nUsing the SAFE Adult framework—Specific\, Approachable\, Feelings\, and Empower—this session will focus on addressing online harm and violence in a way that is supportive and shame-free. You’ll walk away with practical tools to create safe\, trusting spaces where young people feel heard\, protected\, and empowered to speak up. \nSign up for our event here: https://capsa.givevirtuous.org/Event/april-safe-adult-virtual-training \nOr join the Zoom Meeting at the time of the event: https://us06web.zoom.us/j/82527068681 \n(Meeting ID: 825 2706 8681)
URL:https://www.capsa.org/event/april-safe-adult-online-training/
LOCATION:CAPSA Online Training
ORGANIZER;CN="CAPSA":MAILTO:info@capsa.org
END:VEVENT
BEGIN:VEVENT
DTSTART;TZID=America/Denver:20260604T090000
DTEND;TZID=America/Denver:20260604T170000
DTSTAMP:20260420T134242
CREATED:20260227T221229Z
LAST-MODIFIED:20260227T221229Z
UID:48720-1780563600-1780592400@www.capsa.org
SUMMARY:2026 Golf Tournament
DESCRIPTION:Purchase tickets and learn more on our Event Page.
URL:https://www.capsa.org/event/2026-golf-tournament/
LOCATION:Logan Golf & Country Club\, 710 N 1500 E\, Logan\, UT\, 84321\, United States
ORGANIZER;CN="CAPSA":MAILTO:info@capsa.org
END:VEVENT
BEGIN:VEVENT
DTSTART;TZID=America/Denver:20260609T080000
DTEND;TZID=America/Denver:20260609T170000
DTSTAMP:20260420T134242
CREATED:20251024T194358Z
LAST-MODIFIED:20260331T152056Z
UID:48558-1780992000-1781024400@www.capsa.org
SUMMARY:Northern Utah Conference to End Violence (NUCEV)
DESCRIPTION:To purchase tickets and learn more about our featured speakers\, visit https://www.usu.edu/sexual-respect/education/conference/ \n 
URL:https://www.capsa.org/event/northern-utah-conference-to-end-violence-nucev/
LOCATION:Riverwoods Conference Center\, 615 Riverwood Parkway\, Logan\, UT\, 84321\, United States
ORGANIZER;CN="CAPSA":MAILTO:info@capsa.org
END:VEVENT
BEGIN:VEVENT
DTSTART;TZID=America/Denver:20260627T080000
DTEND;TZID=America/Denver:20260627T170000
DTSTAMP:20260420T134242
CREATED:20251024T194453Z
LAST-MODIFIED:20260402T211807Z
UID:48560-1782547200-1782579600@www.capsa.org
SUMMARY:CAPSA Harley Ride
DESCRIPTION:To purchase tickets and learn more about our upcoming Harley Ride\, visit https://capsa.givevirtuous.org/Event/d4d72a79-8846-469b-9299-659f7434d3c7 \n 
URL:https://www.capsa.org/event/capsa-harley-ride-2/
LOCATION:Saddleback Harley\, 445 Main St\, Logan\, UT\, 84321\, United States
ORGANIZER;CN="CAPSA":MAILTO:info@capsa.org
END:VEVENT
END:VCALENDAR