BEGIN:VCALENDAR
VERSION:2.0
PRODID:-//CAPSA - ECPv6.15.20//NONSGML v1.0//EN
CALSCALE:GREGORIAN
METHOD:PUBLISH
X-WR-CALNAME:CAPSA
X-ORIGINAL-URL:https://www.capsa.org
X-WR-CALDESC:Events for CAPSA
REFRESH-INTERVAL;VALUE=DURATION:PT1H
X-Robots-Tag:noindex
X-PUBLISHED-TTL:PT1H
BEGIN:VTIMEZONE
TZID:America/Denver
BEGIN:DAYLIGHT
TZOFFSETFROM:-0700
TZOFFSETTO:-0600
TZNAME:MDT
DTSTART:20240310T090000
END:DAYLIGHT
BEGIN:STANDARD
TZOFFSETFROM:-0600
TZOFFSETTO:-0700
TZNAME:MST
DTSTART:20241103T080000
END:STANDARD
BEGIN:DAYLIGHT
TZOFFSETFROM:-0700
TZOFFSETTO:-0600
TZNAME:MDT
DTSTART:20250309T090000
END:DAYLIGHT
BEGIN:STANDARD
TZOFFSETFROM:-0600
TZOFFSETTO:-0700
TZNAME:MST
DTSTART:20251102T080000
END:STANDARD
BEGIN:DAYLIGHT
TZOFFSETFROM:-0700
TZOFFSETTO:-0600
TZNAME:MDT
DTSTART:20260308T090000
END:DAYLIGHT
BEGIN:STANDARD
TZOFFSETFROM:-0600
TZOFFSETTO:-0700
TZNAME:MST
DTSTART:20261101T080000
END:STANDARD
END:VTIMEZONE
BEGIN:VEVENT
DTSTART;TZID=America/Denver:20250605T090000
DTEND;TZID=America/Denver:20250605T180000
DTSTAMP:20260421T052451
CREATED:20250422T141926Z
LAST-MODIFIED:20250422T141926Z
UID:48168-1749114000-1749146400@www.capsa.org
SUMMARY:Golf Tournament
DESCRIPTION:The Jan Miller Memorial Golf Tournament benefiting CAPSA will be held at the Logan Golf and Country Club on Thursday\, June 5\, 2025. This is the 38th Annual CAPSA Golf Tournament. \nThis year will be a two-flight tournament. We will have a morning flight with 18 teams\, starting at 9:00 am\, and an afternoon flight starting at 2:30 pm. As always this is a four-person scramble.
URL:https://www.capsa.org/event/golf-tournament/
LOCATION:Logan Golf & Country Club\, 710 N 1500 E\, Logan\, UT\, 84321\, United States
ORGANIZER;CN="CAPSA":MAILTO:info@capsa.org
END:VEVENT
BEGIN:VEVENT
DTSTART;TZID=America/Denver:20250517T170000
DTEND;TZID=America/Denver:20250517T190000
DTSTAMP:20260421T052451
CREATED:20250422T153820Z
LAST-MODIFIED:20250422T153820Z
UID:48199-1747501200-1747508400@www.capsa.org
SUMMARY:Richmond Black & White Days Parade
DESCRIPTION:The Black & White Days parade is held on the Saturday of Black & White Days week\, May 17\, 2025\, and starts at 5:00 P.M. \nIt begins at 600 South State Street\, heads north\, turns west at Main Street\, and new for 2025\, then turns north at 100 West\, ending at 100 W 100 N. We recommend picking up and dropping off of participants at White Pine Elementary. \nThe parade lineup starts at 800 South State Street. \nparade_map_directions_2025
URL:https://www.capsa.org/event/richmond-black-white-days-parade/
LOCATION:UT
ORGANIZER;CN="Josie DeMann":MAILTO:jdemann@richmondutah.gov
END:VEVENT
BEGIN:VEVENT
DTSTART;TZID=America/Denver:20250517T110000
DTEND;TZID=America/Denver:20250517T130000
DTSTAMP:20260421T052451
CREATED:20250422T135937Z
LAST-MODIFIED:20250422T140301Z
UID:48160-1747479600-1747486800@www.capsa.org
SUMMARY:MHAM Suicide Prevention Walk
DESCRIPTION:
URL:https://www.capsa.org/event/mham-suicide-prevention-walk/
LOCATION:Willow Park\, 450 W 700 S\, Logan\, UT 84321\, Logan\, UT\, 84321\, United States
ORGANIZER;CN="Cache Suicide Prevention Coalition":MAILTO:cachespc@gmail.com
END:VEVENT
BEGIN:VEVENT
DTSTART;TZID=America/Denver:20250511T120000
DTEND;TZID=America/Denver:20250511T160000
DTSTAMP:20260421T052451
CREATED:20250422T140823Z
LAST-MODIFIED:20250422T140823Z
UID:48163-1746964800-1746979200@www.capsa.org
SUMMARY:Kids Safety Event
DESCRIPTION:
URL:https://www.capsa.org/event/kids-safety-event/
LOCATION:Old Navy\, 1050 N Main St.\, Logan\, UT\, 84341\, United States
END:VEVENT
BEGIN:VEVENT
DTSTART;TZID=America/Denver:20250510T100000
DTEND;TZID=America/Denver:20250510T110000
DTSTAMP:20260421T052451
CREATED:20250422T153319Z
LAST-MODIFIED:20250422T153319Z
UID:48195-1746871200-1746874800@www.capsa.org
SUMMARY:Smithfield Health Days Parade
DESCRIPTION:The parade on Main Street will begin at 10:00 am and end at approximately 11:00 am. For more information\, please contact Ed Haines at healthdaysparade@gmail.com or (435) 563-0048.\n25-Parade-Info-Sheet
URL:https://www.capsa.org/event/smithfield-health-days-parade/
LOCATION:Smithfield Recreation\, 315 E. 600 S.\, Smithfield\, UT\, 84335\, United States
ORGANIZER;CN="Ed Haines":MAILTO:healthdaysparade@gmail.com
END:VEVENT
BEGIN:VEVENT
DTSTART;TZID=America/Denver:20250503T120000
DTEND;TZID=America/Denver:20250503T200000
DTSTAMP:20260421T052451
CREATED:20250422T141451Z
LAST-MODIFIED:20250422T154432Z
UID:48165-1746273600-1746302400@www.capsa.org
SUMMARY:Cinco de Mayo
DESCRIPTION:The Cache Valley Media Group organizes this annual event to celebrate Cinco de Mayo. With tons of food trucks\, dancing\, live music\, and more\, this event attracts hundreds of people!
URL:https://www.capsa.org/event/cinco-de-mayo/
LOCATION:Cache County Fairgrounds\, 490 S 500 W\, Logan\, UT\, 84321\, United States
END:VEVENT
BEGIN:VEVENT
DTSTART;TZID=America/Denver:20250502T120000
DTEND;TZID=America/Denver:20250502T130000
DTSTAMP:20260421T052451
CREATED:20250422T165048Z
LAST-MODIFIED:20250422T165048Z
UID:48210-1746187200-1746190800@www.capsa.org
SUMMARY:Supporting Survivors Through Community Connections Instructor-Led Training
DESCRIPTION:For more information about CAPSA Instructor-Led Trainings\, contact Ashley Shaw ashley@capsa.org \n 
URL:https://www.capsa.org/event/supporting-survivors-through-community-connections-instructor-led-training/
LOCATION:CAPSA\, 308 W 1000 N\, Logan\, UT\, 84321\, United States
ORGANIZER;CN="CAPSA":MAILTO:info@capsa.org
END:VEVENT
BEGIN:VEVENT
DTSTART;VALUE=DATE:20250425
DTEND;VALUE=DATE:20250426
DTSTAMP:20260421T052451
CREATED:20250422T164529Z
LAST-MODIFIED:20250422T164529Z
UID:48209-1745539200-1745625599@www.capsa.org
SUMMARY:Denim Day
DESCRIPTION:On April 25th\, the last Friday of April\, we are asking community members to join in solidarity with survivors of sexual violence by wearing denim. This display shows survivors in our community that we believe them\, support them\, and are here to help. Please take photos and share using the hashtag #denimdaycapsa and tag @capsaservices.
URL:https://www.capsa.org/event/denim-day/
LOCATION:UT
ORGANIZER;CN="CAPSA":MAILTO:info@capsa.org
END:VEVENT
BEGIN:VEVENT
DTSTART;TZID=America/Denver:20250416T173000
DTEND;TZID=America/Denver:20250416T190000
DTSTAMP:20260421T052451
CREATED:20250422T142411Z
LAST-MODIFIED:20250422T142411Z
UID:48170-1744824600-1744830000@www.capsa.org
SUMMARY:Take Back the Night
DESCRIPTION:
URL:https://www.capsa.org/event/take-back-the-night/
LOCATION:Cache County Historic Court House\, 200 N and Main St.\, Logan\, UT\, 84321\, United States
END:VEVENT
END:VCALENDAR