BEGIN:VCALENDAR
VERSION:2.0
PRODID:-//CAPSA - ECPv6.15.20//NONSGML v1.0//EN
CALSCALE:GREGORIAN
METHOD:PUBLISH
X-WR-CALNAME:CAPSA
X-ORIGINAL-URL:https://www.capsa.org
X-WR-CALDESC:Events for CAPSA
REFRESH-INTERVAL;VALUE=DURATION:PT1H
X-Robots-Tag:noindex
X-PUBLISHED-TTL:PT1H
BEGIN:VTIMEZONE
TZID:America/Denver
BEGIN:DAYLIGHT
TZOFFSETFROM:-0700
TZOFFSETTO:-0600
TZNAME:MDT
DTSTART:20240310T090000
END:DAYLIGHT
BEGIN:STANDARD
TZOFFSETFROM:-0600
TZOFFSETTO:-0700
TZNAME:MST
DTSTART:20241103T080000
END:STANDARD
BEGIN:DAYLIGHT
TZOFFSETFROM:-0700
TZOFFSETTO:-0600
TZNAME:MDT
DTSTART:20250309T090000
END:DAYLIGHT
BEGIN:STANDARD
TZOFFSETFROM:-0600
TZOFFSETTO:-0700
TZNAME:MST
DTSTART:20251102T080000
END:STANDARD
BEGIN:DAYLIGHT
TZOFFSETFROM:-0700
TZOFFSETTO:-0600
TZNAME:MDT
DTSTART:20260308T090000
END:DAYLIGHT
BEGIN:STANDARD
TZOFFSETFROM:-0600
TZOFFSETTO:-0700
TZNAME:MST
DTSTART:20261101T080000
END:STANDARD
END:VTIMEZONE
BEGIN:VEVENT
DTSTART;TZID=America/Denver:20250917T170000
DTEND;TZID=America/Denver:20250917T200000
DTSTAMP:20260420T190107
CREATED:20250609T215117Z
LAST-MODIFIED:20250609T215117Z
UID:48268-1758128400-1758139200@www.capsa.org
SUMMARY:Preston Farmers Market
DESCRIPTION:
URL:https://www.capsa.org/event/preston-farmers-market-5/
LOCATION:Preston City Park\, 98 W 200 N\, Preston\, ID\, United States
END:VEVENT
BEGIN:VEVENT
DTSTART;TZID=America/Denver:20250917T160000
DTEND;TZID=America/Denver:20250917T180000
DTSTAMP:20260420T190107
CREATED:20250910T180748Z
LAST-MODIFIED:20250910T180748Z
UID:48383-1758124800-1758132000@www.capsa.org
SUMMARY:Ridgeline High School Homecoming Parade
DESCRIPTION:
URL:https://www.capsa.org/event/ridgeline-high-school-homecoming-parade/
LOCATION:Ridgeline High School\, 180 N 300 W\, Millville\, UT\, 84326\, United States
END:VEVENT
BEGIN:VEVENT
DTSTART;TZID=America/Denver:20250916T170000
DTEND;TZID=America/Denver:20250916T190000
DTSTAMP:20260420T190107
CREATED:20250910T180156Z
LAST-MODIFIED:20250910T180156Z
UID:48380-1758042000-1758049200@www.capsa.org
SUMMARY:Sky View High School Homecoming Parade
DESCRIPTION:
URL:https://www.capsa.org/event/sky-view-high-school-homecoming-parade/
LOCATION:Sky View High School\, 520 S 250 E\, Smithfield\, UT\, 84335\, United States
END:VEVENT
BEGIN:VEVENT
DTSTART;TZID=America/Denver:20250916T103000
DTEND;TZID=America/Denver:20250916T110000
DTSTAMP:20260420T190107
CREATED:20250910T175101Z
LAST-MODIFIED:20250910T180321Z
UID:48379-1758018600-1758020400@www.capsa.org
SUMMARY:Story Time: Healthy Emotions
DESCRIPTION:
URL:https://www.capsa.org/event/story-time-healthy-emotions/
LOCATION:Smithfield Library\, 25 Main St\, Smithfield\, UT\, 84335\, United States
ORGANIZER;CN="CAPSA":MAILTO:info@capsa.org
END:VEVENT
BEGIN:VEVENT
DTSTART;TZID=America/Denver:20250915T163000
DTEND;TZID=America/Denver:20250915T173000
DTSTAMP:20260420T190107
CREATED:20250910T190458Z
LAST-MODIFIED:20250910T190458Z
UID:48413-1757953800-1757957400@www.capsa.org
SUMMARY:Crafting with CAPSA
DESCRIPTION:
URL:https://www.capsa.org/event/crafting-with-capsa-7/
LOCATION:Newton Town Library\, 51 S Center St\, Newton\, UT\, 84327\, United States
ORGANIZER;CN="CAPSA":MAILTO:info@capsa.org
END:VEVENT
BEGIN:VEVENT
DTSTART;TZID=America/Denver:20250913T110000
DTEND;TZID=America/Denver:20250913T220000
DTSTAMP:20260420T190107
CREATED:20250422T152418Z
LAST-MODIFIED:20250422T152418Z
UID:48194-1757761200-1757800800@www.capsa.org
SUMMARY:Latino Festival
DESCRIPTION:The Cache Valley Media Group 2025 Latino Festival is an exciting celebration of Latin-American heritage & culture. Many Latin American countries celebrate their independence in mid-September\, and our festival will pay tribute to those celebrations with cultural dancers\, vendors\, food trucks\, and a parade!
URL:https://www.capsa.org/event/latino-festival/
LOCATION:Center Street\, Logan\, UT\, 84321\, United States
END:VEVENT
BEGIN:VEVENT
DTSTART;TZID=America/Denver:20250912T104500
DTEND;TZID=America/Denver:20250912T120000
DTSTAMP:20260420T190107
CREATED:20250910T190340Z
LAST-MODIFIED:20250910T193123Z
UID:48412-1757673900-1757678400@www.capsa.org
SUMMARY:Presentation for Youth: Confidence
DESCRIPTION:
URL:https://www.capsa.org/event/confidence/
LOCATION:North Logan Library\, 475 E 2500 N\, North Logan\, UT\, 84341\, United States
ORGANIZER;CN="CAPSA":MAILTO:info@capsa.org
END:VEVENT
BEGIN:VEVENT
DTSTART;TZID=America/Denver:20250906T160000
DTEND;TZID=America/Denver:20250906T220000
DTSTAMP:20260420T190107
CREATED:20250422T151408Z
LAST-MODIFIED:20250910T193155Z
UID:48189-1757174400-1757196000@www.capsa.org
SUMMARY:Ignite the Light
DESCRIPTION:Suicide awareness night. “Ignite the Light” is a metaphor for encouraging people to be themselves and to let their light shine. It means to ignite or light up one’s inner spark or passion and let it shine brightly for the world to see.
URL:https://www.capsa.org/event/ignite-the-light/
LOCATION:Cache County Fairgrounds\, 490 S 500 W\, Logan\, UT\, 84321\, United States
ORGANIZER;CN="Karina Brown":MAILTO:karina.brown@cachecounty.gov
END:VEVENT
BEGIN:VEVENT
DTSTART;VALUE=DATE:20250906
DTEND;VALUE=DATE:20250907
DTSTAMP:20260420T190107
CREATED:20250422T152042Z
LAST-MODIFIED:20250422T152042Z
UID:48191-1757116800-1757203199@www.capsa.org
SUMMARY:Logan Pride Festival 2025
DESCRIPTION:Since 2016\, Logan Pride has served the Cache Valley community as a non-profit organization dedicated to celebrating diversity while promoting LGBTQIA+ visibility\, acceptance\, and support in our region. While they host many projects and activities throughout the year\, their hallmark event is their annual Pride Festival that occurs each September. This single-day event has notably generated the largest reach and impact in and for our community.
URL:https://www.capsa.org/event/logan-pride-festival-2025/
LOCATION:Center Street\, Logan\, UT\, 84321\, United States
ORGANIZER;CN="Logan Pride":MAILTO:info@loganpride.org
END:VEVENT
BEGIN:VEVENT
DTSTART;TZID=America/Denver:20250827T170000
DTEND;TZID=America/Denver:20250827T200000
DTSTAMP:20260420T190107
CREATED:20250609T214930Z
LAST-MODIFIED:20250609T214930Z
UID:48267-1756314000-1756324800@www.capsa.org
SUMMARY:Preston Farmers Market
DESCRIPTION:
URL:https://www.capsa.org/event/preston-farmers-market-4/
LOCATION:Preston City Park\, 98 W 200 N\, Preston\, ID\, United States
END:VEVENT
BEGIN:VEVENT
DTSTART;TZID=America/Denver:20250827T103000
DTEND;TZID=America/Denver:20250827T110000
DTSTAMP:20260420T190107
CREATED:20250610T174517Z
LAST-MODIFIED:20250610T174517Z
UID:48312-1756290600-1756292400@www.capsa.org
SUMMARY:Storytime: Upstanding
DESCRIPTION:Daniel & Lena
URL:https://www.capsa.org/event/storytime-upstanding/
LOCATION:Mendon Library\, 15 N Main St\, Mendon\, UT\, 84325\, United States
ORGANIZER;CN="CAPSA":MAILTO:info@capsa.org
END:VEVENT
BEGIN:VEVENT
DTSTART;TZID=America/Denver:20250827T100000
DTEND;TZID=America/Denver:20250827T150000
DTSTAMP:20260420T190107
CREATED:20250610T151314Z
LAST-MODIFIED:20250610T151314Z
UID:48275-1756288800-1756306800@www.capsa.org
SUMMARY:USU Day on the Quad
DESCRIPTION:
URL:https://www.capsa.org/event/usu-day-on-the-quad/
LOCATION:Utah State University\, 300 Old Main Hill\, Logan\, UT\, 84322\, United States
ORGANIZER;CN="Utah State University":MAILTO:spencer.bitner@usu.edu
END:VEVENT
BEGIN:VEVENT
DTSTART;TZID=America/Denver:20250826T160000
DTEND;TZID=America/Denver:20250826T170000
DTSTAMP:20260420T190107
CREATED:20250610T174350Z
LAST-MODIFIED:20250610T174350Z
UID:48310-1756224000-1756227600@www.capsa.org
SUMMARY:Storytime: TBD
DESCRIPTION:Lena
URL:https://www.capsa.org/event/storytime-tbd-4/
LOCATION:553 Main St.\, 553 Main St.\, Logan\, UT\, 84321\, United States
ORGANIZER;CN="CAPSA":MAILTO:info@capsa.org
END:VEVENT
BEGIN:VEVENT
DTSTART;VALUE=DATE:20250825
DTEND;VALUE=DATE:20250826
DTSTAMP:20260420T190107
CREATED:20250513T152520Z
LAST-MODIFIED:20250513T152520Z
UID:48239-1756080000-1756166399@www.capsa.org
SUMMARY:Somebody's Attic 40% Off Sale
DESCRIPTION:This year marks 40 years that Somebody’s Attic has been in business. As we celebrate this milestone\, we are having a large sale. \nEverything is an additional 40% off on the 25th of every month (because it is 2025). \nIt’ll just be our main building\, 39 W 100 N in Logan\, and our second store at 3 S Main\, Smithfield. (Our boutique is closing this week)\n\nThanks!\nMary
URL:https://www.capsa.org/event/somebodys-attic-40-off-sale-2-2/
LOCATION:Somebody’s Attic\, 39 W 100 N\, Logan\, 84321\, United States
ORGANIZER;CN="Somebody's Attic":MAILTO:maryayotte80@gmail.com
END:VEVENT
BEGIN:VEVENT
DTSTART;TZID=America/Denver:20250818T163000
DTEND;TZID=America/Denver:20250818T173000
DTSTAMP:20260420T190107
CREATED:20250610T174026Z
LAST-MODIFIED:20250610T174026Z
UID:48309-1755534600-1755538200@www.capsa.org
SUMMARY:Crafting with CAPSA
DESCRIPTION:Codi
URL:https://www.capsa.org/event/crafting-with-capsa-6/
LOCATION:Newton Town Library\, 51 S Center St\, Newton\, UT\, 84327\, United States
ORGANIZER;CN="CAPSA":MAILTO:info@capsa.org
END:VEVENT
BEGIN:VEVENT
DTSTART;TZID=America/Denver:20250813T190000
DTEND;TZID=America/Denver:20250813T200000
DTSTAMP:20260420T190107
CREATED:20250609T220330Z
LAST-MODIFIED:20250609T220330Z
UID:48271-1755111600-1755115200@www.capsa.org
SUMMARY:SAFE Adult Training
DESCRIPTION:
URL:https://www.capsa.org/event/safe-adult-training/
LOCATION:CAPSA\, 308 W 1000 N\, Logan\, UT\, 84321\, United States
ORGANIZER;CN="CAPSA":MAILTO:info@capsa.org
END:VEVENT
BEGIN:VEVENT
DTSTART;TZID=America/Denver:20250813T153000
DTEND;TZID=America/Denver:20250813T163000
DTSTAMP:20260420T190107
CREATED:20250610T173853Z
LAST-MODIFIED:20250610T173853Z
UID:48308-1755099000-1755102600@www.capsa.org
SUMMARY:Storytime: TBD
DESCRIPTION:Codi & Lena
URL:https://www.capsa.org/event/storytime-tbd-3/
LOCATION:Rich County Library\, 21 N Main St\, Randolph\, UT\, 84064\, United States
ORGANIZER;CN="CAPSA":MAILTO:info@capsa.org
END:VEVENT
BEGIN:VEVENT
DTSTART;TZID=America/Denver:20250812T160000
DTEND;TZID=America/Denver:20250812T170000
DTSTAMP:20260420T190107
CREATED:20250610T173714Z
LAST-MODIFIED:20250610T173714Z
UID:48307-1755014400-1755018000@www.capsa.org
SUMMARY:Crafting with CAPSA
DESCRIPTION:Codi
URL:https://www.capsa.org/event/crafting-with-capsa-5/
LOCATION:Smithfield Library\, 25 Main St\, Smithfield\, UT\, 84335\, United States
ORGANIZER;CN="CAPSA":MAILTO:info@capsa.org
END:VEVENT
BEGIN:VEVENT
DTSTART;TZID=America/Denver:20250807T180000
DTEND;TZID=America/Denver:20250807T200000
DTSTAMP:20260420T190107
CREATED:20250610T173613Z
LAST-MODIFIED:20250610T173613Z
UID:48306-1754589600-1754596800@www.capsa.org
SUMMARY:Bear Lake Raspberry Days Parade
DESCRIPTION:Hailey & Lena
URL:https://www.capsa.org/event/bear-lake-raspberry-days-parade/
LOCATION:UT
END:VEVENT
BEGIN:VEVENT
DTSTART;TZID=America/Denver:20250806T170000
DTEND;TZID=America/Denver:20250806T200000
DTSTAMP:20260420T190107
CREATED:20250609T214836Z
LAST-MODIFIED:20250609T214836Z
UID:48266-1754499600-1754510400@www.capsa.org
SUMMARY:Preston Farmers Market
DESCRIPTION:
URL:https://www.capsa.org/event/preston-farmers-market-3/
LOCATION:Preston City Park\, 98 W 200 N\, Preston\, ID\, United States
END:VEVENT
BEGIN:VEVENT
DTSTART;TZID=America/Denver:20250805T174500
DTEND;TZID=America/Denver:20250805T200000
DTSTAMP:20260420T190107
CREATED:20250422T150033Z
LAST-MODIFIED:20250422T150033Z
UID:48187-1754415900-1754424000@www.capsa.org
SUMMARY:Night Out Against Crime - Hyrum
DESCRIPTION:Hamburgers will be served. Several groups will be there\, including CAPSA\, The Family Place\, Bear River Health Department\, Head Start\, Boy Scouts\, Hyrum Fire Department\, and the Cache County Sheriffs.
URL:https://www.capsa.org/event/night-out-against-crime-hyrum/
LOCATION:Hyrum City Square\, UT-101\, Hyrum\, UT\, 84319\, United States
END:VEVENT
BEGIN:VEVENT
DTSTART;TZID=America/Denver:20250726T160000
DTEND;TZID=America/Denver:20250726T200000
DTSTAMP:20260420T190107
CREATED:20250422T145536Z
LAST-MODIFIED:20250422T145536Z
UID:48185-1753545600-1753560000@www.capsa.org
SUMMARY:Eres Importante
DESCRIPTION:
URL:https://www.capsa.org/event/eres-importante/
LOCATION:Willow Park\, 450 W 700 S\, Logan\, UT 84321\, Logan\, UT\, 84321\, United States
ORGANIZER;CN="Casa del Alfarero":MAILTO:churchoffice@cdalogan.com
END:VEVENT
BEGIN:VEVENT
DTSTART;VALUE=DATE:20250725
DTEND;VALUE=DATE:20250726
DTSTAMP:20260420T190107
CREATED:20250513T152345Z
LAST-MODIFIED:20250513T152603Z
UID:48238-1753401600-1753487999@www.capsa.org
SUMMARY:Somebody's Attic 40% Off Sale
DESCRIPTION:This year marks 40 years that Somebody’s Attic has been in business. As we celebrate this milestone\, we are having a large sale. \nEverything is an additional 40% off on the 25th of every month (because it is 2025). \nIt’ll just be our main building\, 39 W 100 N in Logan\, and our second store at 3 S Main\, Smithfield. (Our boutique is closing this week)\n\nThanks!\nMary
URL:https://www.capsa.org/event/somebodys-attic-40-off-sale-2/
LOCATION:Somebody’s Attic\, 39 W 100 N\, Logan\, 84321\, United States
ORGANIZER;CN="Somebody's Attic":MAILTO:maryayotte80@gmail.com
END:VEVENT
BEGIN:VEVENT
DTSTART;TZID=America/Denver:20250723T103000
DTEND;TZID=America/Denver:20250723T110000
DTSTAMP:20260420T190107
CREATED:20250610T173337Z
LAST-MODIFIED:20250610T173337Z
UID:48305-1753266600-1753268400@www.capsa.org
SUMMARY:Storytime: Communication
DESCRIPTION:Hailey
URL:https://www.capsa.org/event/storytime-communication/
LOCATION:Mendon Library\, 15 N Main St\, Mendon\, UT\, 84325\, United States
ORGANIZER;CN="CAPSA":MAILTO:info@capsa.org
END:VEVENT
BEGIN:VEVENT
DTSTART;TZID=America/Denver:20250721T163000
DTEND;TZID=America/Denver:20250721T173000
DTSTAMP:20260420T190107
CREATED:20250610T173104Z
LAST-MODIFIED:20250610T173104Z
UID:48304-1753115400-1753119000@www.capsa.org
SUMMARY:Crafting with CAPSA
DESCRIPTION:Codi
URL:https://www.capsa.org/event/crafting-with-capsa-4/
LOCATION:Newton Town Library\, 51 S Center St\, Newton\, UT\, 84327\, United States
ORGANIZER;CN="CAPSA":MAILTO:info@capsa.org
END:VEVENT
BEGIN:VEVENT
DTSTART;TZID=America/Denver:20250717T103000
DTEND;TZID=America/Denver:20250717T110000
DTSTAMP:20260420T190107
CREATED:20250610T172914Z
LAST-MODIFIED:20250610T172914Z
UID:48303-1752748200-1752750000@www.capsa.org
SUMMARY:Storytime: Healthy Emotions
DESCRIPTION:Kenzie & Lena
URL:https://www.capsa.org/event/storytime-healthy-emotions-2/
LOCATION:Newton Town Library\, 51 S Center St\, Newton\, UT\, 84327\, United States
ORGANIZER;CN="CAPSA":MAILTO:info@capsa.org
END:VEVENT
BEGIN:VEVENT
DTSTART;TZID=America/Denver:20250716T170000
DTEND;TZID=America/Denver:20250716T200000
DTSTAMP:20260420T190107
CREATED:20250609T214708Z
LAST-MODIFIED:20250609T214708Z
UID:48265-1752685200-1752696000@www.capsa.org
SUMMARY:Preston Farmers Market
DESCRIPTION:
URL:https://www.capsa.org/event/preston-farmers-market-2/
LOCATION:Preston City Park\, 98 W 200 N\, Preston\, ID\, United States
END:VEVENT
BEGIN:VEVENT
DTSTART;TZID=America/Denver:20250715T170000
DTEND;TZID=America/Denver:20250715T193000
DTSTAMP:20260420T190107
CREATED:20250610T150901Z
LAST-MODIFIED:20250610T150901Z
UID:48274-1752598800-1752607800@www.capsa.org
SUMMARY:Richmond Youth Opportunity Fair
DESCRIPTION:Richmond
URL:https://www.capsa.org/event/richmond-youth-opportunity-fair/
LOCATION:UT
END:VEVENT
BEGIN:VEVENT
DTSTART;TZID=America/Denver:20250711T104500
DTEND;TZID=America/Denver:20250711T120000
DTSTAMP:20260420T190107
CREATED:20250610T172614Z
LAST-MODIFIED:20250610T172614Z
UID:48302-1752230700-1752235200@www.capsa.org
SUMMARY:Storytime: TBD
DESCRIPTION:Codi
URL:https://www.capsa.org/event/storytime-tbd-2/
LOCATION:North Logan Library\, 475 E 2500 N\, North Logan\, UT\, 84341\, United States
ORGANIZER;CN="CAPSA":MAILTO:info@capsa.org
END:VEVENT
BEGIN:VEVENT
DTSTART;TZID=America/Denver:20250709T153000
DTEND;TZID=America/Denver:20250709T163000
DTSTAMP:20260420T190107
CREATED:20250610T172424Z
LAST-MODIFIED:20250610T172424Z
UID:48301-1752075000-1752078600@www.capsa.org
SUMMARY:Storytime: TBD
DESCRIPTION:Lena
URL:https://www.capsa.org/event/storytime-tbd/
LOCATION:Rich County Library\, 21 N Main St\, Randolph\, UT\, 84064\, United States
ORGANIZER;CN="CAPSA":MAILTO:info@capsa.org
END:VEVENT
END:VCALENDAR