BEGIN:VCALENDAR
VERSION:2.0
PRODID:-//CAPSA - ECPv6.15.20//NONSGML v1.0//EN
CALSCALE:GREGORIAN
METHOD:PUBLISH
X-WR-CALNAME:CAPSA
X-ORIGINAL-URL:https://www.capsa.org
X-WR-CALDESC:Events for CAPSA
REFRESH-INTERVAL;VALUE=DURATION:PT1H
X-Robots-Tag:noindex
X-PUBLISHED-TTL:PT1H
BEGIN:VTIMEZONE
TZID:America/Denver
BEGIN:DAYLIGHT
TZOFFSETFROM:-0700
TZOFFSETTO:-0600
TZNAME:MDT
DTSTART:20240310T090000
END:DAYLIGHT
BEGIN:STANDARD
TZOFFSETFROM:-0600
TZOFFSETTO:-0700
TZNAME:MST
DTSTART:20241103T080000
END:STANDARD
BEGIN:DAYLIGHT
TZOFFSETFROM:-0700
TZOFFSETTO:-0600
TZNAME:MDT
DTSTART:20250309T090000
END:DAYLIGHT
BEGIN:STANDARD
TZOFFSETFROM:-0600
TZOFFSETTO:-0700
TZNAME:MST
DTSTART:20251102T080000
END:STANDARD
BEGIN:DAYLIGHT
TZOFFSETFROM:-0700
TZOFFSETTO:-0600
TZNAME:MDT
DTSTART:20260308T090000
END:DAYLIGHT
BEGIN:STANDARD
TZOFFSETFROM:-0600
TZOFFSETTO:-0700
TZNAME:MST
DTSTART:20261101T080000
END:STANDARD
END:VTIMEZONE
BEGIN:VEVENT
DTSTART;TZID=America/Denver:20250805T174500
DTEND;TZID=America/Denver:20250805T200000
DTSTAMP:20260420T224224
CREATED:20250422T150033Z
LAST-MODIFIED:20250422T150033Z
UID:48187-1754415900-1754424000@www.capsa.org
SUMMARY:Night Out Against Crime - Hyrum
DESCRIPTION:Hamburgers will be served. Several groups will be there\, including CAPSA\, The Family Place\, Bear River Health Department\, Head Start\, Boy Scouts\, Hyrum Fire Department\, and the Cache County Sheriffs.
URL:https://www.capsa.org/event/night-out-against-crime-hyrum/
LOCATION:Hyrum City Square\, UT-101\, Hyrum\, UT\, 84319\, United States
END:VEVENT
BEGIN:VEVENT
DTSTART;TZID=America/Denver:20250726T160000
DTEND;TZID=America/Denver:20250726T200000
DTSTAMP:20260420T224224
CREATED:20250422T145536Z
LAST-MODIFIED:20250422T145536Z
UID:48185-1753545600-1753560000@www.capsa.org
SUMMARY:Eres Importante
DESCRIPTION:
URL:https://www.capsa.org/event/eres-importante/
LOCATION:Willow Park\, 450 W 700 S\, Logan\, UT 84321\, Logan\, UT\, 84321\, United States
ORGANIZER;CN="Casa del Alfarero":MAILTO:churchoffice@cdalogan.com
END:VEVENT
BEGIN:VEVENT
DTSTART;VALUE=DATE:20250725
DTEND;VALUE=DATE:20250726
DTSTAMP:20260420T224224
CREATED:20250513T152345Z
LAST-MODIFIED:20250513T152603Z
UID:48238-1753401600-1753487999@www.capsa.org
SUMMARY:Somebody's Attic 40% Off Sale
DESCRIPTION:This year marks 40 years that Somebody’s Attic has been in business. As we celebrate this milestone\, we are having a large sale. \nEverything is an additional 40% off on the 25th of every month (because it is 2025). \nIt’ll just be our main building\, 39 W 100 N in Logan\, and our second store at 3 S Main\, Smithfield. (Our boutique is closing this week)\n\nThanks!\nMary
URL:https://www.capsa.org/event/somebodys-attic-40-off-sale-2/
LOCATION:Somebody’s Attic\, 39 W 100 N\, Logan\, 84321\, United States
ORGANIZER;CN="Somebody's Attic":MAILTO:maryayotte80@gmail.com
END:VEVENT
BEGIN:VEVENT
DTSTART;TZID=America/Denver:20250723T103000
DTEND;TZID=America/Denver:20250723T110000
DTSTAMP:20260420T224224
CREATED:20250610T173337Z
LAST-MODIFIED:20250610T173337Z
UID:48305-1753266600-1753268400@www.capsa.org
SUMMARY:Storytime: Communication
DESCRIPTION:Hailey
URL:https://www.capsa.org/event/storytime-communication/
LOCATION:Mendon Library\, 15 N Main St\, Mendon\, UT\, 84325\, United States
ORGANIZER;CN="CAPSA":MAILTO:info@capsa.org
END:VEVENT
BEGIN:VEVENT
DTSTART;TZID=America/Denver:20250721T163000
DTEND;TZID=America/Denver:20250721T173000
DTSTAMP:20260420T224224
CREATED:20250610T173104Z
LAST-MODIFIED:20250610T173104Z
UID:48304-1753115400-1753119000@www.capsa.org
SUMMARY:Crafting with CAPSA
DESCRIPTION:Codi
URL:https://www.capsa.org/event/crafting-with-capsa-4/
LOCATION:Newton Town Library\, 51 S Center St\, Newton\, UT\, 84327\, United States
ORGANIZER;CN="CAPSA":MAILTO:info@capsa.org
END:VEVENT
BEGIN:VEVENT
DTSTART;TZID=America/Denver:20250717T103000
DTEND;TZID=America/Denver:20250717T110000
DTSTAMP:20260420T224224
CREATED:20250610T172914Z
LAST-MODIFIED:20250610T172914Z
UID:48303-1752748200-1752750000@www.capsa.org
SUMMARY:Storytime: Healthy Emotions
DESCRIPTION:Kenzie & Lena
URL:https://www.capsa.org/event/storytime-healthy-emotions-2/
LOCATION:Newton Town Library\, 51 S Center St\, Newton\, UT\, 84327\, United States
ORGANIZER;CN="CAPSA":MAILTO:info@capsa.org
END:VEVENT
BEGIN:VEVENT
DTSTART;TZID=America/Denver:20250716T170000
DTEND;TZID=America/Denver:20250716T200000
DTSTAMP:20260420T224224
CREATED:20250609T214708Z
LAST-MODIFIED:20250609T214708Z
UID:48265-1752685200-1752696000@www.capsa.org
SUMMARY:Preston Farmers Market
DESCRIPTION:
URL:https://www.capsa.org/event/preston-farmers-market-2/
LOCATION:Preston City Park\, 98 W 200 N\, Preston\, ID\, United States
END:VEVENT
BEGIN:VEVENT
DTSTART;TZID=America/Denver:20250715T170000
DTEND;TZID=America/Denver:20250715T193000
DTSTAMP:20260420T224224
CREATED:20250610T150901Z
LAST-MODIFIED:20250610T150901Z
UID:48274-1752598800-1752607800@www.capsa.org
SUMMARY:Richmond Youth Opportunity Fair
DESCRIPTION:Richmond
URL:https://www.capsa.org/event/richmond-youth-opportunity-fair/
END:VEVENT
BEGIN:VEVENT
DTSTART;TZID=America/Denver:20250711T104500
DTEND;TZID=America/Denver:20250711T120000
DTSTAMP:20260420T224224
CREATED:20250610T172614Z
LAST-MODIFIED:20250610T172614Z
UID:48302-1752230700-1752235200@www.capsa.org
SUMMARY:Storytime: TBD
DESCRIPTION:Codi
URL:https://www.capsa.org/event/storytime-tbd-2/
LOCATION:North Logan Library\, 475 E 2500 N\, North Logan\, UT\, 84341\, United States
ORGANIZER;CN="CAPSA":MAILTO:info@capsa.org
END:VEVENT
BEGIN:VEVENT
DTSTART;TZID=America/Denver:20250709T153000
DTEND;TZID=America/Denver:20250709T163000
DTSTAMP:20260420T224224
CREATED:20250610T172424Z
LAST-MODIFIED:20250610T172424Z
UID:48301-1752075000-1752078600@www.capsa.org
SUMMARY:Storytime: TBD
DESCRIPTION:Lena
URL:https://www.capsa.org/event/storytime-tbd/
LOCATION:Rich County Library\, 21 N Main St\, Randolph\, UT\, 84064\, United States
ORGANIZER;CN="CAPSA":MAILTO:info@capsa.org
END:VEVENT
BEGIN:VEVENT
DTSTART;TZID=America/Denver:20250709T103000
DTEND;TZID=America/Denver:20250709T113000
DTSTAMP:20260420T224224
CREATED:20250610T172310Z
LAST-MODIFIED:20250610T172310Z
UID:48300-1752057000-1752060600@www.capsa.org
SUMMARY:Storytime: Confidence
DESCRIPTION:Codi\, Kenzie\, Lena
URL:https://www.capsa.org/event/storytime-confidence/
LOCATION:King Nature Park\, 1874 Green Canyon Dr.\, North Logan\, UT\, 84341\, United States
ORGANIZER;CN="CAPSA":MAILTO:info@capsa.org
END:VEVENT
BEGIN:VEVENT
DTSTART;TZID=America/Denver:20250708T160000
DTEND;TZID=America/Denver:20250708T170000
DTSTAMP:20260420T224224
CREATED:20250610T172132Z
LAST-MODIFIED:20250610T172132Z
UID:48299-1751990400-1751994000@www.capsa.org
SUMMARY:Crafting with CAPSA
DESCRIPTION:Codi
URL:https://www.capsa.org/event/crafting-with-capsa-3/
LOCATION:Smithfield Library\, 25 Main St\, Smithfield\, UT\, 84335\, United States
ORGANIZER;CN="CAPSA":MAILTO:info@capsa.org
END:VEVENT
BEGIN:VEVENT
DTSTART;TZID=America/Denver:20250704T090000
DTEND;TZID=America/Denver:20250704T120000
DTSTAMP:20260420T224224
CREATED:20250610T171816Z
LAST-MODIFIED:20250610T171816Z
UID:48298-1751619600-1751630400@www.capsa.org
SUMMARY:Hyrum 4th of July Parade
DESCRIPTION:Codi\, Daniel\, Kenzie
URL:https://www.capsa.org/event/hyrum-4th-of-july-parade/
END:VEVENT
BEGIN:VEVENT
DTSTART;TZID=America/Denver:20250704T080000
DTEND;TZID=America/Denver:20250704T120000
DTSTAMP:20260420T224224
CREATED:20250610T171632Z
LAST-MODIFIED:20250610T171632Z
UID:48297-1751616000-1751630400@www.capsa.org
SUMMARY:Lewiston 4th of July Parade
DESCRIPTION:Kara & Lena
URL:https://www.capsa.org/event/lewiston-4th-of-july-parade/
END:VEVENT
BEGIN:VEVENT
DTSTART;TZID=America/Denver:20250628T090000
DTEND;TZID=America/Denver:20250628T110000
DTSTAMP:20260420T224224
CREATED:20250610T171245Z
LAST-MODIFIED:20250610T171245Z
UID:48295-1751101200-1751108400@www.capsa.org
SUMMARY:Franklin Idaho Days Parade
DESCRIPTION:Codi & Kenzie
URL:https://www.capsa.org/event/franklin-idaho-days-parade/
LOCATION:Franklin\, ID\, 128 E Main St\, Franklin\, ID\, 83237\, United States
END:VEVENT
BEGIN:VEVENT
DTSTART;TZID=America/Denver:20250625T170000
DTEND;TZID=America/Denver:20250625T200000
DTSTAMP:20260420T224224
CREATED:20250609T214520Z
LAST-MODIFIED:20250609T214520Z
UID:48262-1750870800-1750881600@www.capsa.org
SUMMARY:Preston Farmers Market
DESCRIPTION:
URL:https://www.capsa.org/event/preston-farmers-market/
LOCATION:Preston City Park\, 98 W 200 N\, Preston\, ID\, United States
END:VEVENT
BEGIN:VEVENT
DTSTART;TZID=America/Denver:20250625T103000
DTEND;TZID=America/Denver:20250625T113000
DTSTAMP:20260420T224224
CREATED:20250610T170013Z
LAST-MODIFIED:20250610T170145Z
UID:48290-1750847400-1750851000@www.capsa.org
SUMMARY:Storytime: Support Networks
DESCRIPTION:Codi & Lena
URL:https://www.capsa.org/event/story-time-support-networks/
LOCATION:King Nature Park\, 1874 Green Canyon Dr.\, North Logan\, UT\, 84341\, United States
ORGANIZER;CN="CAPSA":MAILTO:info@capsa.org
END:VEVENT
BEGIN:VEVENT
DTSTART;TZID=America/Denver:20250625T103000
DTEND;TZID=America/Denver:20250625T110000
DTSTAMP:20260420T224224
CREATED:20250610T170847Z
LAST-MODIFIED:20250610T170847Z
UID:48292-1750847400-1750849200@www.capsa.org
SUMMARY:Storytime: Healthy Emotions
DESCRIPTION:Hailey
URL:https://www.capsa.org/event/storytime-healthy-emotions/
LOCATION:Mendon Library\, 15 N Main St\, Mendon\, UT\, 84325\, United States
ORGANIZER;CN="CAPSA":MAILTO:info@capsa.org
END:VEVENT
BEGIN:VEVENT
DTSTART;VALUE=DATE:20250625
DTEND;VALUE=DATE:20250626
DTSTAMP:20260420T224224
CREATED:20250513T152048Z
LAST-MODIFIED:20250513T152638Z
UID:48235-1750809600-1750895999@www.capsa.org
SUMMARY:Somebody's Attic 40% Off Sale
DESCRIPTION:This year marks 40 years that Somebody’s Attic has been in business. As we celebrate this milestone\, we are having a large sale. \nEverything is an additional 40% off on the 25th of every month (because it is 2025). \nIt’ll just be our main building\, 39 W 100 N in Logan\, and our second store at 3 S Main\, Smithfield. (Our boutique is closing this week)\n\nThanks!\nMary
URL:https://www.capsa.org/event/somebodys-attic-40-off-sale/
LOCATION:Somebody’s Attic\, 39 W 100 N\, Logan\, 84321\, United States
ORGANIZER;CN="Somebody's Attic":MAILTO:maryayotte80@gmail.com
END:VEVENT
BEGIN:VEVENT
DTSTART;TZID=America/Denver:20250621T100000
DTEND;TZID=America/Denver:20250621T130000
DTSTAMP:20260420T224224
CREATED:20250610T165607Z
LAST-MODIFIED:20250610T165607Z
UID:48288-1750500000-1750510800@www.capsa.org
SUMMARY:Clarkston Pony Express Days Parade
DESCRIPTION:Codi & Kara
URL:https://www.capsa.org/event/clarkston-pony-express-days-parade/
LOCATION:Clarkston
END:VEVENT
BEGIN:VEVENT
DTSTART;TZID=America/Denver:20250619T103000
DTEND;TZID=America/Denver:20250619T110000
DTSTAMP:20260420T224224
CREATED:20250610T165149Z
LAST-MODIFIED:20250610T170445Z
UID:48287-1750329000-1750330800@www.capsa.org
SUMMARY:Storytime: Confidence
DESCRIPTION:Codi & Lena
URL:https://www.capsa.org/event/story-time-confidence/
LOCATION:Newton Town Library\, 51 S Center St\, Newton\, UT\, 84327\, United States
ORGANIZER;CN="CAPSA":MAILTO:info@capsa.org
END:VEVENT
BEGIN:VEVENT
DTSTART;TZID=America/Denver:20250618T150000
DTEND;TZID=America/Denver:20250618T160000
DTSTAMP:20260420T224224
CREATED:20250610T164835Z
LAST-MODIFIED:20250610T170524Z
UID:48285-1750258800-1750262400@www.capsa.org
SUMMARY:Storytime: TBD
DESCRIPTION:Codi & Lena
URL:https://www.capsa.org/event/story-time/
LOCATION:Rich County Library\, 21 N Main St\, Randolph\, UT\, 84064\, United States
ORGANIZER;CN="CAPSA":MAILTO:info@capsa.org
END:VEVENT
BEGIN:VEVENT
DTSTART;TZID=America/Denver:20250618T100000
DTEND;TZID=America/Denver:20250618T150000
DTSTAMP:20260420T224224
CREATED:20250422T144825Z
LAST-MODIFIED:20250422T144825Z
UID:48182-1750240800-1750258800@www.capsa.org
SUMMARY:Pepperidge Farm Employee Health Fair
DESCRIPTION:
URL:https://www.capsa.org/event/pepperidge-farm-employee-health-fair/
LOCATION:Pepperidge Farm\, 901 US-91\, Richmond\, UT\, 84333\, United States
ORGANIZER;CN="Nick Mejia - Campbell's":MAILTO:nick_mejia@campbells.com
END:VEVENT
BEGIN:VEVENT
DTSTART;TZID=America/Denver:20250616T163000
DTEND;TZID=America/Denver:20250616T173000
DTSTAMP:20260420T224224
CREATED:20250610T164121Z
LAST-MODIFIED:20250610T164121Z
UID:48283-1750091400-1750095000@www.capsa.org
SUMMARY:Crafting with CAPSA
DESCRIPTION:
URL:https://www.capsa.org/event/crafting-with-capsa-2/
LOCATION:Newton Town Library\, 51 S Center St\, Newton\, UT\, 84327\, United States
ORGANIZER;CN="CAPSA":MAILTO:info@capsa.org
END:VEVENT
BEGIN:VEVENT
DTSTART;TZID=America/Denver:20250616T120000
DTEND;TZID=America/Denver:20250616T133000
DTSTAMP:20260420T224224
CREATED:20250422T165822Z
LAST-MODIFIED:20250422T165822Z
UID:48213-1750075200-1750080600@www.capsa.org
SUMMARY:CAPSA Quarterly Connection
DESCRIPTION:CAPSA employees meet quarterly for lunch\, activities\, and connection. For more information about Quarterly Connection\, contact Elliot Rich elliot@capsa.org.
URL:https://www.capsa.org/event/capsa-quarterly-connection/
LOCATION:CAPSA\, 308 W 1000 N\, Logan\, UT\, 84321\, United States
ORGANIZER;CN="CAPSA":MAILTO:info@capsa.org
END:VEVENT
BEGIN:VEVENT
DTSTART;TZID=America/Denver:20250613T104500
DTEND;TZID=America/Denver:20250613T120000
DTSTAMP:20260420T224224
CREATED:20250610T164014Z
LAST-MODIFIED:20250610T170513Z
UID:48280-1749811500-1749816000@www.capsa.org
SUMMARY:Storytime: Goals and Action Plans
DESCRIPTION:
URL:https://www.capsa.org/event/goals-and-action-plans/
LOCATION:North Logan Library\, 475 E 2500 N\, North Logan\, UT\, 84341\, United States
ORGANIZER;CN="CAPSA":MAILTO:info@capsa.org
END:VEVENT
BEGIN:VEVENT
DTSTART;TZID=America/Denver:20250613T090000
DTEND;TZID=America/Denver:20250613T113000
DTSTAMP:20260420T224224
CREATED:20250422T165439Z
LAST-MODIFIED:20250513T152141Z
UID:48212-1749805200-1749814200@www.capsa.org
SUMMARY:Spring Neighborhood Clean-Up
DESCRIPTION:This is when a large group\, deriving from home sponsors\, comes biannually to clean up the grounds of both of CAPSA’s transitional housing neighborhoods\, Independence Place and Independence Way.
URL:https://www.capsa.org/event/spring-neighborhood-clean-up/
LOCATION:CAPSA\, 308 W 1000 N\, Logan\, UT\, 84321\, United States
ORGANIZER;CN="CAPSA":MAILTO:info@capsa.org
END:VEVENT
BEGIN:VEVENT
DTSTART;TZID=America/Denver:20250610T160000
DTEND;TZID=America/Denver:20250610T170000
DTSTAMP:20260420T224224
CREATED:20250610T161845Z
LAST-MODIFIED:20250610T163108Z
UID:48278-1749571200-1749574800@www.capsa.org
SUMMARY:Crafting with CAPSA
DESCRIPTION:
URL:https://www.capsa.org/event/crafting-with-capsa/
LOCATION:Smithfield Library\, 25 Main St\, Smithfield\, UT\, 84335\, United States
ORGANIZER;CN="CAPSA":MAILTO:info@capsa.org
END:VEVENT
BEGIN:VEVENT
DTSTART;TZID=America/Denver:20250607T100000
DTEND;TZID=America/Denver:20250607T190000
DTSTAMP:20260420T224224
CREATED:20250422T142915Z
LAST-MODIFIED:20250422T142915Z
UID:48174-1749290400-1749322800@www.capsa.org
SUMMARY:Cache Valley Summer Kick-Off
DESCRIPTION:
URL:https://www.capsa.org/event/cache-valley-summer-kick-off/
LOCATION:Cache County Fairgrounds\, 490 S 500 W\, Logan\, UT\, 84321\, United States
ORGANIZER;CN="Cache Valley Co-Op":MAILTO:cachevalleycoop@yahoo.com
END:VEVENT
BEGIN:VEVENT
DTSTART;TZID=America/Denver:20250607T080000
DTEND;TZID=America/Denver:20250607T100000
DTSTAMP:20260420T224224
CREATED:20250422T143554Z
LAST-MODIFIED:20250422T143554Z
UID:48177-1749283200-1749290400@www.capsa.org
SUMMARY:Sol Speak Yoga The Shoreline 5K/10K
DESCRIPTION:The Shoreline 10K & 5K is a dirt trail run starting at First Dam and following the beautiful\, scenic Bonneville Shoreline to Green Canyon and back.
URL:https://www.capsa.org/event/sol-speak-yoga-the-shoreline-5k-10k/
LOCATION:First Dam\, 1647-1700 Canyon Rd\, Logan\, UT\, 84321\, United States
ORGANIZER;CN="Sol Speak Yoga":MAILTO:solspeakyoga@gmail.com
END:VEVENT
END:VCALENDAR