BEGIN:VCALENDAR
VERSION:2.0
PRODID:-//CAPSA - ECPv6.15.20//NONSGML v1.0//EN
CALSCALE:GREGORIAN
METHOD:PUBLISH
X-ORIGINAL-URL:https://www.capsa.org
X-WR-CALDESC:Events for CAPSA
REFRESH-INTERVAL;VALUE=DURATION:PT1H
X-Robots-Tag:noindex
X-PUBLISHED-TTL:PT1H
BEGIN:VTIMEZONE
TZID:America/Denver
BEGIN:DAYLIGHT
TZOFFSETFROM:-0700
TZOFFSETTO:-0600
TZNAME:MDT
DTSTART:20240310T090000
END:DAYLIGHT
BEGIN:STANDARD
TZOFFSETFROM:-0600
TZOFFSETTO:-0700
TZNAME:MST
DTSTART:20241103T080000
END:STANDARD
BEGIN:DAYLIGHT
TZOFFSETFROM:-0700
TZOFFSETTO:-0600
TZNAME:MDT
DTSTART:20250309T090000
END:DAYLIGHT
BEGIN:STANDARD
TZOFFSETFROM:-0600
TZOFFSETTO:-0700
TZNAME:MST
DTSTART:20251102T080000
END:STANDARD
BEGIN:DAYLIGHT
TZOFFSETFROM:-0700
TZOFFSETTO:-0600
TZNAME:MDT
DTSTART:20260308T090000
END:DAYLIGHT
BEGIN:STANDARD
TZOFFSETFROM:-0600
TZOFFSETTO:-0700
TZNAME:MST
DTSTART:20261101T080000
END:STANDARD
END:VTIMEZONE
BEGIN:VEVENT
DTSTART;TZID=America/Denver:20250605T090000
DTEND;TZID=America/Denver:20250605T180000
DTSTAMP:20260422T091458
CREATED:20250422T141926Z
LAST-MODIFIED:20250422T141926Z
UID:48168-1749114000-1749146400@www.capsa.org
SUMMARY:Golf Tournament
DESCRIPTION:The Jan Miller Memorial Golf Tournament benefiting CAPSA will be held at the Logan Golf and Country Club on Thursday\, June 5\, 2025. This is the 38th Annual CAPSA Golf Tournament. \nThis year will be a two-flight tournament. We will have a morning flight with 18 teams\, starting at 9:00 am\, and an afternoon flight starting at 2:30 pm. As always this is a four-person scramble.
URL:https://www.capsa.org/event/golf-tournament/
LOCATION:Logan Golf & Country Club\, 710 N 1500 E\, Logan\, UT\, 84321\, United States
ORGANIZER;CN="CAPSA":MAILTO:info@capsa.org
END:VEVENT
BEGIN:VEVENT
DTSTART;TZID=America/Denver:20250613T090000
DTEND;TZID=America/Denver:20250613T113000
DTSTAMP:20260422T091458
CREATED:20250422T165439Z
LAST-MODIFIED:20250513T152141Z
UID:48212-1749805200-1749814200@www.capsa.org
SUMMARY:Spring Neighborhood Clean-Up
DESCRIPTION:This is when a large group\, deriving from home sponsors\, comes biannually to clean up the grounds of both of CAPSA’s transitional housing neighborhoods\, Independence Place and Independence Way.
URL:https://www.capsa.org/event/spring-neighborhood-clean-up/
LOCATION:CAPSA\, 308 W 1000 N\, Logan\, UT\, 84321\, United States
ORGANIZER;CN="CAPSA":MAILTO:info@capsa.org
END:VEVENT
BEGIN:VEVENT
DTSTART;TZID=America/Denver:20250616T120000
DTEND;TZID=America/Denver:20250616T133000
DTSTAMP:20260422T091458
CREATED:20250422T165822Z
LAST-MODIFIED:20250422T165822Z
UID:48213-1750075200-1750080600@www.capsa.org
SUMMARY:CAPSA Quarterly Connection
DESCRIPTION:CAPSA employees meet quarterly for lunch\, activities\, and connection. For more information about Quarterly Connection\, contact Elliot Rich elliot@capsa.org.
URL:https://www.capsa.org/event/capsa-quarterly-connection/
LOCATION:CAPSA\, 308 W 1000 N\, Logan\, UT\, 84321\, United States
ORGANIZER;CN="CAPSA":MAILTO:info@capsa.org
END:VEVENT
END:VCALENDAR